BEGIN:VCALENDAR
VERSION:2.0
PRODID:-//Leura Golf Club - ECPv6.13.2.1//NONSGML v1.0//EN
CALSCALE:GREGORIAN
METHOD:PUBLISH
X-ORIGINAL-URL:https://www.leuragolfclub.com.au
X-WR-CALDESC:Events for Leura Golf Club
REFRESH-INTERVAL;VALUE=DURATION:PT1H
X-Robots-Tag:noindex
X-PUBLISHED-TTL:PT1H
BEGIN:VTIMEZONE
TZID:Australia/Sydney
BEGIN:STANDARD
TZOFFSETFROM:+1100
TZOFFSETTO:+1000
TZNAME:AEST
DTSTART:20250405T160000
END:STANDARD
BEGIN:DAYLIGHT
TZOFFSETFROM:+1000
TZOFFSETTO:+1100
TZNAME:AEDT
DTSTART:20251004T160000
END:DAYLIGHT
END:VTIMEZONE
BEGIN:VEVENT
DTSTART;VALUE=DATE:20250705
DTEND;VALUE=DATE:20250722
DTSTAMP:20260421T130502
CREATED:20241105T005429Z
LAST-MODIFIED:20241105T005429Z
UID:10004276-1751673600-1753142399@www.leuragolfclub.com.au
SUMMARY:School Holidays
DESCRIPTION:
URL:https://www.leuragolfclub.com.au/event/school-holidays-20/
CATEGORIES:Holidays
END:VEVENT
BEGIN:VEVENT
DTSTART;VALUE=DATE:20250708
DTEND;VALUE=DATE:20250709
DTSTAMP:20260421T130502
CREATED:20241116T010535Z
LAST-MODIFIED:20241116T010734Z
UID:10004522-1751932800-1752019199@www.leuragolfclub.com.au
SUMMARY:Women's 9 Hole Stableford
DESCRIPTION:
URL:https://www.leuragolfclub.com.au/event/womens-9-hole-stableford/2025-07-08/
CATEGORIES:Tuesday Comp
END:VEVENT
BEGIN:VEVENT
DTSTART;TZID=Australia/Sydney:20250708T100000
DTEND;TZID=Australia/Sydney:20250708T120000
DTSTAMP:20260421T130502
CREATED:20250625T040735Z
LAST-MODIFIED:20250704T011001Z
UID:10004659-1751968800-1751976000@www.leuragolfclub.com.au
SUMMARY:Natasha Hemms -  Junior Golf Clinic
DESCRIPTION:Cost $50pp. Book at the Proshop 4710 9784
URL:https://www.leuragolfclub.com.au/event/natasha-hemms-junior-golf-clinic/2025-07-08/
END:VEVENT
BEGIN:VEVENT
DTSTART;VALUE=DATE:20250709
DTEND;VALUE=DATE:20250710
DTSTAMP:20260421T130502
CREATED:20241114T042434Z
LAST-MODIFIED:20241114T042434Z
UID:10004384-1752019200-1752105599@www.leuragolfclub.com.au
SUMMARY:Stableford Singles + 2BBB
DESCRIPTION:
URL:https://www.leuragolfclub.com.au/event/stableford-singles-2bbb-7/2025-07-09/
CATEGORIES:Wednesday Medley Comp
END:VEVENT
BEGIN:VEVENT
DTSTART;TZID=Australia/Sydney:20250709T120000
DTEND;TZID=Australia/Sydney:20250709T213000
DTSTAMP:20260421T130502
CREATED:20250704T012330Z
LAST-MODIFIED:20250704T012358Z
UID:10004666-1752062400-1752096600@www.leuragolfclub.com.au
SUMMARY:Bar Open - 3rd SOO
DESCRIPTION:
URL:https://www.leuragolfclub.com.au/event/bar-open-3rd-soo/
END:VEVENT
BEGIN:VEVENT
DTSTART;VALUE=DATE:20250710
DTEND;VALUE=DATE:20250711
DTSTAMP:20260421T130502
CREATED:20250110T000319Z
LAST-MODIFIED:20250110T000422Z
UID:10004623-1752105600-1752191999@www.leuragolfclub.com.au
SUMMARY:Trivia @ 7pm
DESCRIPTION:When: Every Thursday\, questions begin at 7 pm\nEntry Fee: Only $2 per player\nPrizes: Get ready to win delightful prizes including wine\, club vouchers\, and delicious chocolates.\n\nDon’t miss out on the action! Our bistro opens at 5:30 pm\, perfect for grabbing a bite before the trivia starts. Create your own table with friends and family\, and make it a night to remember. Whether you’re a trivia buff or just looking for a lively evening out\, there’s something for everyone.
URL:https://www.leuragolfclub.com.au/event/trivia-7pm-3/2025-07-10/
CATEGORIES:LGC Function
END:VEVENT
BEGIN:VEVENT
DTSTART;VALUE=DATE:20250712
DTEND;VALUE=DATE:20250713
DTSTAMP:20260421T130502
CREATED:20250108T004237Z
LAST-MODIFIED:20250108T004237Z
UID:10004591-1752278400-1752364799@www.leuragolfclub.com.au
SUMMARY:Stableford Singles + 2BBB
DESCRIPTION:
URL:https://www.leuragolfclub.com.au/event/stableford-singles-2bbb-5-2/2025-07-12/
CATEGORIES:Saturday Medley Comp
END:VEVENT
END:VCALENDAR