BEGIN:VCALENDAR
VERSION:2.0
PRODID:-//Leura Golf Club - ECPv6.13.2.1//NONSGML v1.0//EN
CALSCALE:GREGORIAN
METHOD:PUBLISH
X-ORIGINAL-URL:https://www.leuragolfclub.com.au
X-WR-CALDESC:Events for Leura Golf Club
REFRESH-INTERVAL;VALUE=DURATION:PT1H
X-Robots-Tag:noindex
X-PUBLISHED-TTL:PT1H
BEGIN:VTIMEZONE
TZID:Australia/Sydney
BEGIN:STANDARD
TZOFFSETFROM:+1100
TZOFFSETTO:+1000
TZNAME:AEST
DTSTART:20250405T160000
END:STANDARD
BEGIN:DAYLIGHT
TZOFFSETFROM:+1000
TZOFFSETTO:+1100
TZNAME:AEDT
DTSTART:20251004T160000
END:DAYLIGHT
END:VTIMEZONE
BEGIN:VEVENT
DTSTART;VALUE=DATE:20250812
DTEND;VALUE=DATE:20250813
DTSTAMP:20260421T092322
CREATED:20241116T010535Z
LAST-MODIFIED:20241116T010734Z
UID:10004523-1754956800-1755043199@www.leuragolfclub.com.au
SUMMARY:Women's 9 Hole Stableford
DESCRIPTION:
URL:https://www.leuragolfclub.com.au/event/womens-9-hole-stableford/2025-08-12/
CATEGORIES:Tuesday Comp
END:VEVENT
BEGIN:VEVENT
DTSTART;VALUE=DATE:20250813
DTEND;VALUE=DATE:20250814
DTSTAMP:20260421T092322
CREATED:20241114T042434Z
LAST-MODIFIED:20241114T042434Z
UID:10004385-1755043200-1755129599@www.leuragolfclub.com.au
SUMMARY:Stableford Singles + 2BBB
DESCRIPTION:
URL:https://www.leuragolfclub.com.au/event/stableford-singles-2bbb-7/2025-08-13/
CATEGORIES:Wednesday Medley Comp
END:VEVENT
BEGIN:VEVENT
DTSTART;VALUE=DATE:20250814
DTEND;VALUE=DATE:20250815
DTSTAMP:20260421T092322
CREATED:20250110T000319Z
LAST-MODIFIED:20250110T000422Z
UID:10004628-1755129600-1755215999@www.leuragolfclub.com.au
SUMMARY:Trivia @ 7pm
DESCRIPTION:When: Every Thursday\, questions begin at 7 pm\nEntry Fee: Only $2 per player\nPrizes: Get ready to win delightful prizes including wine\, club vouchers\, and delicious chocolates.\n\nDon’t miss out on the action! Our bistro opens at 5:30 pm\, perfect for grabbing a bite before the trivia starts. Create your own table with friends and family\, and make it a night to remember. Whether you’re a trivia buff or just looking for a lively evening out\, there’s something for everyone.
URL:https://www.leuragolfclub.com.au/event/trivia-7pm-3/2025-08-14/
CATEGORIES:LGC Function
END:VEVENT
BEGIN:VEVENT
DTSTART;VALUE=DATE:20250815
DTEND;VALUE=DATE:20250816
DTSTAMP:20260421T092322
CREATED:20250704T012004Z
LAST-MODIFIED:20250704T012004Z
UID:10004665-1755216000-1755302399@www.leuragolfclub.com.au
SUMMARY:Bar & Bistro Closed
DESCRIPTION:
URL:https://www.leuragolfclub.com.au/event/bar-bistro-closed/
END:VEVENT
BEGIN:VEVENT
DTSTART;TZID=Australia/Sydney:20250815T120000
DTEND;TZID=Australia/Sydney:20250815T170000
DTSTAMP:20260421T092322
CREATED:20250701T055304Z
LAST-MODIFIED:20250701T055304Z
UID:10004661-1755259200-1755277200@www.leuragolfclub.com.au
SUMMARY:Course Closed for private event
DESCRIPTION:
URL:https://www.leuragolfclub.com.au/event/course-closed-for-private-event/
CATEGORIES:Other
END:VEVENT
BEGIN:VEVENT
DTSTART;VALUE=DATE:20250816
DTEND;VALUE=DATE:20250817
DTSTAMP:20260421T092322
CREATED:20241115T040128Z
LAST-MODIFIED:20241115T040128Z
UID:10004492-1755302400-1755388799@www.leuragolfclub.com.au
SUMMARY:Mixed Foursomes C/ship
DESCRIPTION:
URL:https://www.leuragolfclub.com.au/event/mixed-foursomes-c-ship/
CATEGORIES:LGC Major Events
END:VEVENT
BEGIN:VEVENT
DTSTART;VALUE=DATE:20250816
DTEND;VALUE=DATE:20250817
DTSTAMP:20260421T092322
CREATED:20241115T040320Z
LAST-MODIFIED:20241115T040320Z
UID:10004493-1755302400-1755388799@www.leuragolfclub.com.au
SUMMARY:Stableford Singles - white tees
DESCRIPTION:
URL:https://www.leuragolfclub.com.au/event/stableford-singles-white-tees-9/
CATEGORIES:Saturday Medley Comp
END:VEVENT
END:VCALENDAR