BEGIN:VCALENDAR
VERSION:2.0
PRODID:-//Leura Golf Club - ECPv6.13.2.1//NONSGML v1.0//EN
CALSCALE:GREGORIAN
METHOD:PUBLISH
X-ORIGINAL-URL:https://www.leuragolfclub.com.au
X-WR-CALDESC:Events for Leura Golf Club
REFRESH-INTERVAL;VALUE=DURATION:PT1H
X-Robots-Tag:noindex
X-PUBLISHED-TTL:PT1H
BEGIN:VTIMEZONE
TZID:Australia/Sydney
BEGIN:STANDARD
TZOFFSETFROM:+1100
TZOFFSETTO:+1000
TZNAME:AEST
DTSTART:20250405T160000
END:STANDARD
BEGIN:DAYLIGHT
TZOFFSETFROM:+1000
TZOFFSETTO:+1100
TZNAME:AEDT
DTSTART:20251004T160000
END:DAYLIGHT
END:VTIMEZONE
BEGIN:VEVENT
DTSTART;VALUE=DATE:20250826
DTEND;VALUE=DATE:20250827
DTSTAMP:20260421T092301
CREATED:20241116T011018Z
LAST-MODIFIED:20241116T011401Z
UID:10004553-1756166400-1756252799@www.leuragolfclub.com.au
SUMMARY:Women's 9 Hole Par/Ambrose
DESCRIPTION:
URL:https://www.leuragolfclub.com.au/event/womens-9-hole-par-ambrose/2025-08-26/
CATEGORIES:Tuesday Comp
END:VEVENT
BEGIN:VEVENT
DTSTART;TZID=Australia/Sydney:20250826T140000
DTEND;TZID=Australia/Sydney:20250826T150000
DTSTAMP:20260421T092301
CREATED:20250809T052047Z
LAST-MODIFIED:20250809T052521Z
UID:10004737-1756216800-1756220400@www.leuragolfclub.com.au
SUMMARY:Women's Beginner Golf Clinic
DESCRIPTION:
URL:https://www.leuragolfclub.com.au/event/womens-beginner-golf-clinic/2025-08-26/
END:VEVENT
BEGIN:VEVENT
DTSTART;VALUE=DATE:20250827
DTEND;VALUE=DATE:20250828
DTSTAMP:20260421T092301
CREATED:20241115T031019Z
LAST-MODIFIED:20241115T031339Z
UID:10004469-1756252800-1756339199@www.leuragolfclub.com.au
SUMMARY:Stableford Singles + 2BBB
DESCRIPTION:
URL:https://www.leuragolfclub.com.au/event/stableford-singles-2bbb-11/2025-08-27/
CATEGORIES:Wednesday Medley Comp
END:VEVENT
BEGIN:VEVENT
DTSTART;VALUE=DATE:20250828
DTEND;VALUE=DATE:20250829
DTSTAMP:20260421T092301
CREATED:20250110T000319Z
LAST-MODIFIED:20250110T000422Z
UID:10004630-1756339200-1756425599@www.leuragolfclub.com.au
SUMMARY:Trivia @ 7pm
DESCRIPTION:When: Every Thursday\, questions begin at 7 pm\nEntry Fee: Only $2 per player\nPrizes: Get ready to win delightful prizes including wine\, club vouchers\, and delicious chocolates.\n\nDon’t miss out on the action! Our bistro opens at 5:30 pm\, perfect for grabbing a bite before the trivia starts. Create your own table with friends and family\, and make it a night to remember. Whether you’re a trivia buff or just looking for a lively evening out\, there’s something for everyone.
URL:https://www.leuragolfclub.com.au/event/trivia-7pm-3/2025-08-28/
CATEGORIES:LGC Function
END:VEVENT
BEGIN:VEVENT
DTSTART;VALUE=DATE:20250830
DTEND;VALUE=DATE:20250831
DTSTAMP:20260421T092301
CREATED:20241115T022537Z
LAST-MODIFIED:20250108T004858Z
UID:10004436-1756512000-1756598399@www.leuragolfclub.com.au
SUMMARY:Men's Club C/ships Rd 1
DESCRIPTION:
URL:https://www.leuragolfclub.com.au/event/club-c-ships-rd-1/
CATEGORIES:LGC Major Events
END:VEVENT
BEGIN:VEVENT
DTSTART;VALUE=DATE:20250830
DTEND;VALUE=DATE:20250831
DTSTAMP:20260421T092301
CREATED:20250108T002436Z
LAST-MODIFIED:20250108T002446Z
UID:10004437-1756512000-1756598399@www.leuragolfclub.com.au
SUMMARY:Stableford Singles - white tees
DESCRIPTION:
URL:https://www.leuragolfclub.com.au/event/stableford-singles-white-tees-11/
CATEGORIES:Saturday Medley Comp
END:VEVENT
BEGIN:VEVENT
DTSTART;VALUE=DATE:20250831
DTEND;VALUE=DATE:20250901
DTSTAMP:20260421T092301
CREATED:20250720T003632Z
LAST-MODIFIED:20250804T062744Z
UID:10004668-1756598400-1756684799@www.leuragolfclub.com.au
SUMMARY:Blue Mountains Shootout Preview
DESCRIPTION:
URL:https://www.leuragolfclub.com.au/event/blue-mountains-shootout-preview/
CATEGORIES:Other
END:VEVENT
END:VCALENDAR