BEGIN:VCALENDAR
VERSION:2.0
PRODID:-//Leura Golf Club - ECPv6.13.2.1//NONSGML v1.0//EN
CALSCALE:GREGORIAN
METHOD:PUBLISH
X-ORIGINAL-URL:https://www.leuragolfclub.com.au
X-WR-CALDESC:Events for Leura Golf Club
REFRESH-INTERVAL;VALUE=DURATION:PT1H
X-Robots-Tag:noindex
X-PUBLISHED-TTL:PT1H
BEGIN:VTIMEZONE
TZID:Australia/Sydney
BEGIN:STANDARD
TZOFFSETFROM:+1100
TZOFFSETTO:+1000
TZNAME:AEST
DTSTART:20250405T160000
END:STANDARD
BEGIN:DAYLIGHT
TZOFFSETFROM:+1000
TZOFFSETTO:+1100
TZNAME:AEDT
DTSTART:20251004T160000
END:DAYLIGHT
END:VTIMEZONE
BEGIN:VEVENT
DTSTART;VALUE=DATE:20250916
DTEND;VALUE=DATE:20250917
DTSTAMP:20260421T084407
CREATED:20241116T010621Z
LAST-MODIFIED:20241116T010831Z
UID:10004544-1757980800-1758067199@www.leuragolfclub.com.au
SUMMARY:Women's 9 Hole Stableford
DESCRIPTION:
URL:https://www.leuragolfclub.com.au/event/womens-9-hole-stableford-2/2025-09-16/
CATEGORIES:Tuesday Comp
END:VEVENT
BEGIN:VEVENT
DTSTART;TZID=Australia/Sydney:20250916T140000
DTEND;TZID=Australia/Sydney:20250916T150000
DTSTAMP:20260421T084407
CREATED:20250809T052047Z
LAST-MODIFIED:20250809T052521Z
UID:10004740-1758031200-1758034800@www.leuragolfclub.com.au
SUMMARY:Women's Beginner Golf Clinic
DESCRIPTION:
URL:https://www.leuragolfclub.com.au/event/womens-beginner-golf-clinic/2025-09-16/
END:VEVENT
BEGIN:VEVENT
DTSTART;VALUE=DATE:20250917
DTEND;VALUE=DATE:20250918
DTSTAMP:20260421T084407
CREATED:20241114T044000Z
LAST-MODIFIED:20241114T044000Z
UID:10004401-1758067200-1758153599@www.leuragolfclub.com.au
SUMMARY:Stableford Singles + 2BBB
DESCRIPTION:
URL:https://www.leuragolfclub.com.au/event/stableford-singles-2bbb-8/2025-09-17/
CATEGORIES:Wednesday Medley Comp
END:VEVENT
BEGIN:VEVENT
DTSTART;VALUE=DATE:20250918
DTEND;VALUE=DATE:20250919
DTSTAMP:20260421T084407
CREATED:20250110T000319Z
LAST-MODIFIED:20250110T000422Z
UID:10004633-1758153600-1758239999@www.leuragolfclub.com.au
SUMMARY:Trivia @ 7pm
DESCRIPTION:When: Every Thursday\, questions begin at 7 pm\nEntry Fee: Only $2 per player\nPrizes: Get ready to win delightful prizes including wine\, club vouchers\, and delicious chocolates.\n\nDon’t miss out on the action! Our bistro opens at 5:30 pm\, perfect for grabbing a bite before the trivia starts. Create your own table with friends and family\, and make it a night to remember. Whether you’re a trivia buff or just looking for a lively evening out\, there’s something for everyone.
URL:https://www.leuragolfclub.com.au/event/trivia-7pm-3/2025-09-18/
CATEGORIES:LGC Function
END:VEVENT
BEGIN:VEVENT
DTSTART;VALUE=DATE:20250920
DTEND;VALUE=DATE:20250921
DTSTAMP:20260421T084407
CREATED:20241115T024258Z
LAST-MODIFIED:20241115T024258Z
UID:10004442-1758326400-1758412799@www.leuragolfclub.com.au
SUMMARY:Spare Day Club C/ships
DESCRIPTION:
URL:https://www.leuragolfclub.com.au/event/spare-day-club-c-ships/
END:VEVENT
BEGIN:VEVENT
DTSTART;VALUE=DATE:20250920
DTEND;VALUE=DATE:20250921
DTSTAMP:20260421T084407
CREATED:20241115T024821Z
LAST-MODIFIED:20241115T025229Z
UID:10004447-1758326400-1758412799@www.leuragolfclub.com.au
SUMMARY:Stableford Singles + 2BBB
DESCRIPTION:
URL:https://www.leuragolfclub.com.au/event/stableford-singles-2bbb-9/2025-09-20/
CATEGORIES:Saturday Medley Comp
END:VEVENT
BEGIN:VEVENT
DTSTART;VALUE=DATE:20250921
DTEND;VALUE=DATE:20250922
DTSTAMP:20260421T084407
CREATED:20250804T063245Z
LAST-MODIFIED:20250804T063335Z
UID:10004671-1758412800-1758499199@www.leuragolfclub.com.au
SUMMARY:Blue Mountains Shootout @ Leura
DESCRIPTION:For more information click here
URL:https://www.leuragolfclub.com.au/event/blue-mountains-shootout-leura/
CATEGORIES:Other
END:VEVENT
END:VCALENDAR