BEGIN:VCALENDAR
VERSION:2.0
PRODID:-//Leura Golf Club - ECPv6.13.2.1//NONSGML v1.0//EN
CALSCALE:GREGORIAN
METHOD:PUBLISH
X-ORIGINAL-URL:https://www.leuragolfclub.com.au
X-WR-CALDESC:Events for Leura Golf Club
REFRESH-INTERVAL;VALUE=DURATION:PT1H
X-Robots-Tag:noindex
X-PUBLISHED-TTL:PT1H
BEGIN:VTIMEZONE
TZID:Australia/Sydney
BEGIN:STANDARD
TZOFFSETFROM:+1100
TZOFFSETTO:+1000
TZNAME:AEST
DTSTART:20250405T160000
END:STANDARD
BEGIN:DAYLIGHT
TZOFFSETFROM:+1000
TZOFFSETTO:+1100
TZNAME:AEDT
DTSTART:20251004T160000
END:DAYLIGHT
END:VTIMEZONE
BEGIN:VEVENT
DTSTART;VALUE=DATE:20250923
DTEND;VALUE=DATE:20250924
DTSTAMP:20260421T071306
CREATED:20241116T011018Z
LAST-MODIFIED:20241116T011401Z
UID:10004554-1758585600-1758671999@www.leuragolfclub.com.au
SUMMARY:Women's 9 Hole Par/Ambrose
DESCRIPTION:
URL:https://www.leuragolfclub.com.au/event/womens-9-hole-par-ambrose/2025-09-23/
CATEGORIES:Tuesday Comp
END:VEVENT
BEGIN:VEVENT
DTSTART;TZID=Australia/Sydney:20250923T140000
DTEND;TZID=Australia/Sydney:20250923T150000
DTSTAMP:20260421T071306
CREATED:20250809T052047Z
LAST-MODIFIED:20250809T052521Z
UID:10004741-1758636000-1758639600@www.leuragolfclub.com.au
SUMMARY:Women's Beginner Golf Clinic
DESCRIPTION:
URL:https://www.leuragolfclub.com.au/event/womens-beginner-golf-clinic/2025-09-23/
END:VEVENT
BEGIN:VEVENT
DTSTART;VALUE=DATE:20250924
DTEND;VALUE=DATE:20250925
DTSTAMP:20260421T071306
CREATED:20241115T031019Z
LAST-MODIFIED:20241115T031339Z
UID:10004470-1758672000-1758758399@www.leuragolfclub.com.au
SUMMARY:Stableford Singles + 2BBB
DESCRIPTION:
URL:https://www.leuragolfclub.com.au/event/stableford-singles-2bbb-11/2025-09-24/
CATEGORIES:Wednesday Medley Comp
END:VEVENT
BEGIN:VEVENT
DTSTART;VALUE=DATE:20250925
DTEND;VALUE=DATE:20250926
DTSTAMP:20260421T071306
CREATED:20250110T000319Z
LAST-MODIFIED:20250110T000422Z
UID:10004634-1758758400-1758844799@www.leuragolfclub.com.au
SUMMARY:Trivia @ 7pm
DESCRIPTION:When: Every Thursday\, questions begin at 7 pm\nEntry Fee: Only $2 per player\nPrizes: Get ready to win delightful prizes including wine\, club vouchers\, and delicious chocolates.\n\nDon’t miss out on the action! Our bistro opens at 5:30 pm\, perfect for grabbing a bite before the trivia starts. Create your own table with friends and family\, and make it a night to remember. Whether you’re a trivia buff or just looking for a lively evening out\, there’s something for everyone.
URL:https://www.leuragolfclub.com.au/event/trivia-7pm-3/2025-09-25/
CATEGORIES:LGC Function
END:VEVENT
BEGIN:VEVENT
DTSTART;VALUE=DATE:20250927
DTEND;VALUE=DATE:20250928
DTSTAMP:20260421T071306
CREATED:20241115T025420Z
LAST-MODIFIED:20241115T025932Z
UID:10004459-1758931200-1759017599@www.leuragolfclub.com.au
SUMMARY:Stableford Singles + 2BBB
DESCRIPTION:
URL:https://www.leuragolfclub.com.au/event/stableford-singles-2bbb-10/2025-09-27/
CATEGORIES:Saturday Medley Comp
END:VEVENT
BEGIN:VEVENT
DTSTART;VALUE=DATE:20250927
DTEND;VALUE=DATE:20251014
DTSTAMP:20260421T071306
CREATED:20241105T005548Z
LAST-MODIFIED:20241105T005548Z
UID:10004277-1758931200-1760399999@www.leuragolfclub.com.au
SUMMARY:School Holidays
DESCRIPTION:
URL:https://www.leuragolfclub.com.au/event/school-holidays-21/
CATEGORIES:Holidays
END:VEVENT
END:VCALENDAR