BEGIN:VCALENDAR
VERSION:2.0
PRODID:-//Leura Golf Club - ECPv6.13.2.1//NONSGML v1.0//EN
CALSCALE:GREGORIAN
METHOD:PUBLISH
X-WR-CALNAME:Leura Golf Club
X-ORIGINAL-URL:https://www.leuragolfclub.com.au
X-WR-CALDESC:Events for Leura Golf Club
REFRESH-INTERVAL;VALUE=DURATION:PT1H
X-Robots-Tag:noindex
X-PUBLISHED-TTL:PT1H
BEGIN:VTIMEZONE
TZID:Australia/Sydney
BEGIN:STANDARD
TZOFFSETFROM:+1100
TZOFFSETTO:+1000
TZNAME:AEST
DTSTART:20250405T160000
END:STANDARD
BEGIN:DAYLIGHT
TZOFFSETFROM:+1000
TZOFFSETTO:+1100
TZNAME:AEDT
DTSTART:20251004T160000
END:DAYLIGHT
END:VTIMEZONE
BEGIN:VEVENT
DTSTART;VALUE=DATE:20250927
DTEND;VALUE=DATE:20251014
DTSTAMP:20260421T053225
CREATED:20241105T005548Z
LAST-MODIFIED:20241105T005548Z
UID:10004277-1758931200-1760399999@www.leuragolfclub.com.au
SUMMARY:School Holidays
DESCRIPTION:
URL:https://www.leuragolfclub.com.au/event/school-holidays-21/
CATEGORIES:Holidays
END:VEVENT
BEGIN:VEVENT
DTSTART;VALUE=DATE:20251014
DTEND;VALUE=DATE:20251015
DTSTAMP:20260421T053225
CREATED:20241116T010535Z
LAST-MODIFIED:20241116T010734Z
UID:10004525-1760400000-1760486399@www.leuragolfclub.com.au
SUMMARY:Women's 9 Hole Stableford
DESCRIPTION:
URL:https://www.leuragolfclub.com.au/event/womens-9-hole-stableford/2025-10-14/
CATEGORIES:Tuesday Comp
END:VEVENT
BEGIN:VEVENT
DTSTART;VALUE=DATE:20251015
DTEND;VALUE=DATE:20251016
DTSTAMP:20260421T053225
CREATED:20241114T044000Z
LAST-MODIFIED:20241114T044000Z
UID:10004402-1760486400-1760572799@www.leuragolfclub.com.au
SUMMARY:Stableford Singles + 2BBB
DESCRIPTION:
URL:https://www.leuragolfclub.com.au/event/stableford-singles-2bbb-8/2025-10-15/
CATEGORIES:Wednesday Medley Comp
END:VEVENT
BEGIN:VEVENT
DTSTART;VALUE=DATE:20251016
DTEND;VALUE=DATE:20251017
DTSTAMP:20260421T053225
CREATED:20250110T000319Z
LAST-MODIFIED:20250110T000422Z
UID:10004637-1760572800-1760659199@www.leuragolfclub.com.au
SUMMARY:Trivia @ 7pm
DESCRIPTION:When: Every Thursday\, questions begin at 7 pm\nEntry Fee: Only $2 per player\nPrizes: Get ready to win delightful prizes including wine\, club vouchers\, and delicious chocolates.\n\nDon’t miss out on the action! Our bistro opens at 5:30 pm\, perfect for grabbing a bite before the trivia starts. Create your own table with friends and family\, and make it a night to remember. Whether you’re a trivia buff or just looking for a lively evening out\, there’s something for everyone.
URL:https://www.leuragolfclub.com.au/event/trivia-7pm-3/2025-10-16/
CATEGORIES:LGC Function
END:VEVENT
BEGIN:VEVENT
DTSTART;VALUE=DATE:20251018
DTEND;VALUE=DATE:20251019
DTSTAMP:20260421T053225
CREATED:20250108T021428Z
LAST-MODIFIED:20250108T021428Z
UID:10004597-1760745600-1760831999@www.leuragolfclub.com.au
SUMMARY:Par Singles + 2BBB
DESCRIPTION:
URL:https://www.leuragolfclub.com.au/event/par-singles-2bbb-5-2/
CATEGORIES:Saturday Medley Comp
END:VEVENT
END:VCALENDAR