BEGIN:VCALENDAR
VERSION:2.0
PRODID:-//Leura Golf Club - ECPv6.13.2.1//NONSGML v1.0//EN
CALSCALE:GREGORIAN
METHOD:PUBLISH
X-WR-CALNAME:Leura Golf Club
X-ORIGINAL-URL:https://www.leuragolfclub.com.au
X-WR-CALDESC:Events for Leura Golf Club
REFRESH-INTERVAL;VALUE=DURATION:PT1H
X-Robots-Tag:noindex
X-PUBLISHED-TTL:PT1H
BEGIN:VTIMEZONE
TZID:Australia/Sydney
BEGIN:STANDARD
TZOFFSETFROM:+1100
TZOFFSETTO:+1000
TZNAME:AEST
DTSTART:20250405T160000
END:STANDARD
BEGIN:DAYLIGHT
TZOFFSETFROM:+1000
TZOFFSETTO:+1100
TZNAME:AEDT
DTSTART:20251004T160000
END:DAYLIGHT
END:VTIMEZONE
BEGIN:VEVENT
DTSTART;VALUE=DATE:20251210
DTEND;VALUE=DATE:20251211
DTSTAMP:20260421T044039
CREATED:20241114T042434Z
LAST-MODIFIED:20241114T042434Z
UID:10004389-1765324800-1765411199@www.leuragolfclub.com.au
SUMMARY:Stableford Singles + 2BBB
DESCRIPTION:
URL:https://www.leuragolfclub.com.au/event/stableford-singles-2bbb-7/2025-12-10/
CATEGORIES:Wednesday Medley Comp
END:VEVENT
BEGIN:VEVENT
DTSTART;VALUE=DATE:20251211
DTEND;VALUE=DATE:20251212
DTSTAMP:20260421T044039
CREATED:20250110T000319Z
LAST-MODIFIED:20250110T000422Z
UID:10004645-1765411200-1765497599@www.leuragolfclub.com.au
SUMMARY:Trivia @ 7pm
DESCRIPTION:When: Every Thursday\, questions begin at 7 pm\nEntry Fee: Only $2 per player\nPrizes: Get ready to win delightful prizes including wine\, club vouchers\, and delicious chocolates.\n\nDon’t miss out on the action! Our bistro opens at 5:30 pm\, perfect for grabbing a bite before the trivia starts. Create your own table with friends and family\, and make it a night to remember. Whether you’re a trivia buff or just looking for a lively evening out\, there’s something for everyone.
URL:https://www.leuragolfclub.com.au/event/trivia-7pm-3/2025-12-11/
CATEGORIES:LGC Function
END:VEVENT
BEGIN:VEVENT
DTSTART;VALUE=DATE:20251213
DTEND;VALUE=DATE:20251214
DTSTAMP:20260421T044039
CREATED:20241114T044614Z
LAST-MODIFIED:20251204T102443Z
UID:10004405-1765584000-1765670399@www.leuragolfclub.com.au
SUMMARY:Captain’s v President’s 2 Player Ambrose (Anniversary Cup)
DESCRIPTION:Play  \n\n2 Player Ambrose annual comp\nNormal comp price $20\nNearest the pins on all par threes\nPlayers gather at 8.30 am for team allocation\, coffee/beer\n9 am shotgun start\nChristmas hams as prizes\n\nPresentation  \n\nCocktails\, nibbles and awards after\nWinning team leader gets huge kudos and trophy\nLoser drinks a shoey from a small gumboot bought for the occasion\nGold Medal awards also presented
URL:https://www.leuragolfclub.com.au/event/captains-v-presidents-2-player-ambrose-anniversary-cup-2/
CATEGORIES:LGC Major Events
END:VEVENT
END:VCALENDAR