BEGIN:VCALENDAR
VERSION:2.0
PRODID:-//Leura Golf Club - ECPv6.13.2.1//NONSGML v1.0//EN
CALSCALE:GREGORIAN
METHOD:PUBLISH
X-ORIGINAL-URL:https://www.leuragolfclub.com.au
X-WR-CALDESC:Events for Leura Golf Club
REFRESH-INTERVAL;VALUE=DURATION:PT1H
X-Robots-Tag:noindex
X-PUBLISHED-TTL:PT1H
BEGIN:VTIMEZONE
TZID:Australia/Melbourne
BEGIN:STANDARD
TZOFFSETFROM:+1100
TZOFFSETTO:+1000
TZNAME:AEST
DTSTART:20260404T160000
END:STANDARD
BEGIN:DAYLIGHT
TZOFFSETFROM:+1000
TZOFFSETTO:+1100
TZNAME:AEDT
DTSTART:20261003T160000
END:DAYLIGHT
END:VTIMEZONE
BEGIN:VTIMEZONE
TZID:Australia/Sydney
BEGIN:STANDARD
TZOFFSETFROM:+1100
TZOFFSETTO:+1000
TZNAME:AEST
DTSTART:20260404T160000
END:STANDARD
BEGIN:DAYLIGHT
TZOFFSETFROM:+1000
TZOFFSETTO:+1100
TZNAME:AEDT
DTSTART:20261003T160000
END:DAYLIGHT
END:VTIMEZONE
BEGIN:VEVENT
DTSTART;VALUE=DATE:20260608
DTEND;VALUE=DATE:20260609
DTSTAMP:20260420T154258
CREATED:20231221T212146Z
LAST-MODIFIED:20240101T012503Z
UID:10003663-1780876800-1780963199@www.leuragolfclub.com.au
SUMMARY:King's Birthday
DESCRIPTION:
URL:https://www.leuragolfclub.com.au/event/kings-birthday/2026-06-08/
CATEGORIES:Holidays
END:VEVENT
BEGIN:VEVENT
DTSTART;VALUE=DATE:20260610
DTEND;VALUE=DATE:20260611
DTSTAMP:20260420T154258
CREATED:20260101T044901Z
LAST-MODIFIED:20260101T044901Z
UID:10005313-1781049600-1781135999@www.leuragolfclub.com.au
SUMMARY:Stableford Singles + 2BBB
DESCRIPTION:
URL:https://www.leuragolfclub.com.au/event/stableford-singles-2bbb-23/2026-06-10/
CATEGORIES:Wednesday Medley Comp
END:VEVENT
BEGIN:VEVENT
DTSTART;VALUE=DATE:20260611
DTEND;VALUE=DATE:20260612
DTSTAMP:20260420T154258
CREATED:20260102T050607Z
LAST-MODIFIED:20260102T050932Z
UID:10005352-1781136000-1781222399@www.leuragolfclub.com.au
SUMMARY:Trivia @ 7pm
DESCRIPTION:When: Every Thursday\, questions begin at 7 pm\nEntry Fee: Only $2 per player\nPrizes: Get ready to win delightful prizes including wine\, club vouchers\, and delicious chocolates.\n\nDon’t miss out on the action! Our bistro opens at 5:30 pm\, perfect for grabbing a bite before the trivia starts. Create your own table with friends and family\, and make it a night to remember. Whether you’re a trivia buff or just looking for a lively evening out\, there’s something for everyone.
URL:https://www.leuragolfclub.com.au/event/trivia-7pm-4/2026-06-11/
CATEGORIES:LGC Function
END:VEVENT
BEGIN:VEVENT
DTSTART;VALUE=DATE:20260613
DTEND;VALUE=DATE:20260614
DTSTAMP:20260420T154258
CREATED:20251226T031302Z
LAST-MODIFIED:20251226T051621Z
UID:10004838-1781308800-1781395199@www.leuragolfclub.com.au
SUMMARY:Stableford Singles + 2BBB
DESCRIPTION:
URL:https://www.leuragolfclub.com.au/event/stableford-singles-2bbb-20/2026-06-13/
CATEGORIES:Saturday Medley Comp
END:VEVENT
END:VCALENDAR