BEGIN:VCALENDAR
VERSION:2.0
PRODID:-//Leura Golf Club - ECPv6.13.2.1//NONSGML v1.0//EN
CALSCALE:GREGORIAN
METHOD:PUBLISH
X-ORIGINAL-URL:https://www.leuragolfclub.com.au
X-WR-CALDESC:Events for Leura Golf Club
REFRESH-INTERVAL;VALUE=DURATION:PT1H
X-Robots-Tag:noindex
X-PUBLISHED-TTL:PT1H
BEGIN:VTIMEZONE
TZID:Australia/Sydney
BEGIN:STANDARD
TZOFFSETFROM:+1100
TZOFFSETTO:+1000
TZNAME:AEST
DTSTART:20260404T160000
END:STANDARD
BEGIN:DAYLIGHT
TZOFFSETFROM:+1000
TZOFFSETTO:+1100
TZNAME:AEDT
DTSTART:20261003T160000
END:DAYLIGHT
END:VTIMEZONE
BEGIN:VEVENT
DTSTART;VALUE=DATE:20261109
DTEND;VALUE=DATE:20261110
DTSTAMP:20260421T044238
CREATED:20260103T020411Z
LAST-MODIFIED:20260103T020505Z
UID:10005403-1794182400-1794268799@www.leuragolfclub.com.au
SUMMARY:Longest Day
DESCRIPTION:Are you up for the challenge?\nThe Longest Day is the ultimate golf challenge designed to test your skill\, strength and stamina. Complete 36\, 54 or 72 holes of golf in a single day whilst raising vital funds for Cancer Council’s life-saving research. While the official Longest Day is the 10th of November\, you can take part anytime in November or December.
URL:https://www.leuragolfclub.com.au/event/longest-day/
CATEGORIES:Other
END:VEVENT
BEGIN:VEVENT
DTSTART;VALUE=DATE:20261111
DTEND;VALUE=DATE:20261112
DTSTAMP:20260421T044238
CREATED:20251226T054744Z
LAST-MODIFIED:20251226T054744Z
UID:10005268-1794355200-1794441599@www.leuragolfclub.com.au
SUMMARY:Par Singles + 2BBB
DESCRIPTION:
URL:https://www.leuragolfclub.com.au/event/par-singles-2bbb-10/2026-11-11/
CATEGORIES:Wednesday Medley Comp
END:VEVENT
BEGIN:VEVENT
DTSTART;VALUE=DATE:20261112
DTEND;VALUE=DATE:20261113
DTSTAMP:20260421T044238
CREATED:20260102T050607Z
LAST-MODIFIED:20260102T050932Z
UID:10005374-1794441600-1794527999@www.leuragolfclub.com.au
SUMMARY:Trivia @ 7pm
DESCRIPTION:When: Every Thursday\, questions begin at 7 pm\nEntry Fee: Only $2 per player\nPrizes: Get ready to win delightful prizes including wine\, club vouchers\, and delicious chocolates.\n\nDon’t miss out on the action! Our bistro opens at 5:30 pm\, perfect for grabbing a bite before the trivia starts. Create your own table with friends and family\, and make it a night to remember. Whether you’re a trivia buff or just looking for a lively evening out\, there’s something for everyone.
URL:https://www.leuragolfclub.com.au/event/trivia-7pm-4/2026-11-12/
CATEGORIES:LGC Function
END:VEVENT
BEGIN:VEVENT
DTSTART;VALUE=DATE:20261114
DTEND;VALUE=DATE:20261115
DTSTAMP:20260421T044238
CREATED:20260103T015259Z
LAST-MODIFIED:20260103T015259Z
UID:10005399-1794614400-1794700799@www.leuragolfclub.com.au
SUMMARY:Men's Club C/ship Rd2
DESCRIPTION:
URL:https://www.leuragolfclub.com.au/event/mens-club-c-ship-rd2/
CATEGORIES:LGC Major Events
END:VEVENT
BEGIN:VEVENT
DTSTART;VALUE=DATE:20261114
DTEND;VALUE=DATE:20261115
DTSTAMP:20260421T044238
CREATED:20260103T015626Z
LAST-MODIFIED:20260103T015626Z
UID:10005401-1794614400-1794700799@www.leuragolfclub.com.au
SUMMARY:Stableford Singles - white tees
DESCRIPTION:
URL:https://www.leuragolfclub.com.au/event/stableford-singles-white-tees-17/
CATEGORIES:Saturday Medley Comp
END:VEVENT
END:VCALENDAR